BEGIN:VCALENDAR
VERSION:2.0
PRODID:-//hacksw/handcal//NONSGML v1.0//EN
BEGIN:VEVENT
SUMMARY:🎾 FINALE DAMES SCHMIDLIN 🏆
UID:00995d6b-23a5-4708-8ffd-dbac988c7e2c
DTSTART:20260501T090000Z
DTEND:20260501T120000Z
LOCATION:Localisation Allee Suzanne Lenglen 37000 tours
CATEGORIES:Sportif
STATUS:
DESCRIPTION:🎾 Coupe SCHMIDLIN 2026 🏆<div><br></div><div>FINALE
 DAMES♀️  </div><div><br></div><div>Venez encourager notre
 equipe :</div><div><br></div><div>🗓️ VENDREDI 1ER MAI
 2026</div><div>⏰ 11h30</div><div>📌 AT GRAND TOURS</div><div> 
   Allee Suzanne Lenglen</div><div>    37000
 Tours</div><div><br></div><div>Tous avec elles !!!
 🎉</div><div><br></div><div>Allez Cinq Mars !
 💪✊</div><div><br></div><div>#tennis #cdt37 #finale
 #cinqmarslapile  #schmidlin</div>
URL;VALUE=URI:https://www.tenniscinqmars.com/evenements/2026/05/01/finale-dames-schmidlin-2444559
END:VEVENT
END:VCALENDAR
